BEGIN:VCALENDAR
VERSION:2.0
PRODID:-//Tukios.com/
BEGIN:VEVENT
UID:a7403228-ac04-4bd3-95fa-9288562a2087@www.colwellmemorialhome.com
DTSTAMP:20260421T041541Z
DTSTART:20260428T150000Z
DTEND:20260428T160000Z
SUMMARY:Visitation with Family
DESCRIPTION:
URL:https://www.colwellmemorialhome.com/obituaries/robert-fryer
LOCATION: 515 S State St  Beardstown IL 62618
GEO:40.0147014;-90.4319843
END:VEVENT
END:VCALENDAR