BEGIN:VCALENDAR
VERSION:2.0
PRODID:-//Tukios.com/
BEGIN:VEVENT
UID:4a0df32c-fa8e-4355-82fa-fa35cdb95500@www.colwellmemorialhome.com
DTSTAMP:20260421T041714Z
DTSTART:20260428T160000Z
DTEND:20260428T170000Z
SUMMARY:Memorial Service
DESCRIPTION:
URL:https://www.colwellmemorialhome.com/obituaries/robert-fryer
LOCATION: 515 S State St  Beardstown IL 62618
GEO:40.0147014;-90.4319843
END:VEVENT
END:VCALENDAR